BEGIN:VCALENDAR
VERSION:2.0
PRODID:-//ChamberMaster//Event Calendar 2.0//EN
METHOD:PUBLISH
X-PUBLISHED-TTL:P1H
REFRESH-INTERVAL:P1H
CALSCALE:GREGORIAN
BEGIN:VTIMEZONE
TZID:America/Los_Angeles
BEGIN:DAYLIGHT
RRULE:FREQ=YEARLY;BYMONTH=3;BYDAY=2SU
DTSTART:20070101T000000
TZOFFSETFROM:-0800
TZOFFSETTO:-0700
TZNAME:Pacific Daylight Time
END:DAYLIGHT
BEGIN:STANDARD
RRULE:FREQ=YEARLY;BYMONTH=11;BYDAY=1SU
DTSTART:20070101T000000
TZOFFSETFROM:-0700
TZOFFSETTO:-0800
TZNAME:Pacific Standard Time
END:STANDARD
END:VTIMEZONE
BEGIN:VEVENT
DTSTART;TZID=America/Los_Angeles:20260527T153000
DTEND;TZID=America/Los_Angeles:20260527T170000
X-MICROSOFT-CDO-ALLDAYEVENT:FALSE
SUMMARY:Member Orientation and Mixer
DESCRIPTION:Whether you are a longtime member\, brand‑new\, or exploring membership\, this orientation offers a clear introduction to the Hayward Chamber's mission\, programs\, events\, public policy efforts\, and opportunities to get connected and engaged right away. Stick around afterward for a relaxed mixer with fellow attendees. Meet other local professionals and enjoy refreshment as you connect.
X-ALT-DESC;FMTTYPE=text/html:<!DOCTYPE html><html><head><title></title></head><body aria-disabled="false"><p>Whether you are a longtime member\, brand‑new\, or exploring membership\, this orientation offers a clear introduction to the Hayward Chamber&rsquo\;s mission\, programs\, events\, public policy efforts\, and opportunities to get connected and engaged right away.&nbsp\;</p><p>Stick around afterward for a relaxed mixer with fellow attendees. Meet other local professionals and enjoy refreshment as you connect.</p></body></html>
LOCATION:22380 Foothill Blvd Hayward 94541
UID:e.3265.1447653
SEQUENCE:3
DTSTAMP:20260421T224051Z
URL:https://haywardchamberofcommerceca.growthzoneapp.com/calendar/Details/member-orientation-and-mixer-1714593?sourceTypeId=Hub
END:VEVENT
END:VCALENDAR
