BEGIN:VCALENDAR
VERSION:2.0
PRODID:-//ChamberMaster//Event Calendar 2.0//EN
METHOD:PUBLISH
X-PUBLISHED-TTL:P1H
REFRESH-INTERVAL:P1H
CALSCALE:GREGORIAN
BEGIN:VTIMEZONE
TZID:America/Los_Angeles
BEGIN:DAYLIGHT
RRULE:FREQ=YEARLY;BYMONTH=3;BYDAY=2SU
DTSTART:20070101T000000
TZOFFSETFROM:-0800
TZOFFSETTO:-0700
TZNAME:Pacific Daylight Time
END:DAYLIGHT
BEGIN:STANDARD
RRULE:FREQ=YEARLY;BYMONTH=11;BYDAY=1SU
DTSTART:20070101T000000
TZOFFSETFROM:-0700
TZOFFSETTO:-0800
TZNAME:Pacific Standard Time
END:STANDARD
END:VTIMEZONE
BEGIN:VEVENT
DTSTART;TZID=America/Los_Angeles:20260618T170000
DTEND;TZID=America/Los_Angeles:20260618T210000
X-MICROSOFT-CDO-ALLDAYEVENT:FALSE
SUMMARY:June 18th Downtown Hayward Street Party
DESCRIPTION:Get ready for a sizzling summer celebration in the heart of Hayward! The Downtown Hayward Street Party is back\, bringing the community together for an unforgettable evening of live music\, delicious eats\, local shopping\, and endless fun. From high-energy live performances to delicious food vendors and handcrafted treasures\, this event captures the vibrant spirit of our city. Whether you're here to explore\, dance\, or simply soak in the festive atmosphere\, this is the summer night you don't want to miss!📣Calling all vendors! If you're a creator\, merchant\, food vendor\, business\, or non-profit looking to showcase your offerings\, fill out a vendor interest form to join the fun!🌟 fill out a vendor interest formSponsorship opportunities available! Support this incredible community event and gain visibility for your business or organization. Contact Lucy Lopez Lucy@hayward.org
X-ALT-DESC;FMTTYPE=text/html:<!DOCTYPE html><html><head><title></title></head><body aria-disabled="false"><p>Get ready for a sizzling summer celebration in the heart of Hayward!&nbsp\;</p><p>The Downtown Hayward Street Party is back\, bringing the community together for an unforgettable evening of live music\, delicious eats\, local shopping\, and endless fun. From high-energy live performances to delicious food vendors and handcrafted treasures\, this event captures the vibrant spirit of our city. Whether you&#39\;re here to explore\, dance\, or simply soak in the festive atmosphere\, this is the summer night you don&#39\;t want to miss!📣</p><p>Calling all vendors! If you&#39\;re a creator\, merchant\, food vendor\, business\, or non-profit looking to showcase your offerings\, fill out a vendor interest form to join the fun!🌟&nbsp\;</p><p><a fr-original-style="" href="https://docs.google.com/forms/d/e/1FAIpQLSey7a8FlzGQJ4hGht_BXABl3DVjerJaTso7YUhrNc8G1kQe1g/viewform" style="user-select: auto\;">fill out a vendor interest form</a></p><p>Sponsorship opportunities available! Support this incredible community event and gain visibility for your business or organization. Contact Lucy Lopez&nbsp\;</p><p>Lucy@hayward.org</p></body></html>
LOCATION:B Street and Main Street Hayward
UID:e.3265.1425818
SEQUENCE:3
DTSTAMP:20260421T211421Z
URL:https://haywardchamberofcommerceca.growthzoneapp.com/calendar/Details/june-18th-downtown-hayward-street-party-1685875?sourceTypeId=Hub
END:VEVENT
END:VCALENDAR
